BEGIN:VCALENDAR
X-WR-TIMEZONE:Europe/Berlin
X-WR-CALNAME:rbb-Kalender
VERSION:2.0
METHOD:PUBLISH
CALSCALE:GREGORIAN
PRODID:rbb-CMS DAY
BEGIN:VEVENT
CLASS:PUBLIC
URL:http://www.rbb-online.de/content/rbb/rbb/was/archiv/20131002_2215/oldtimer.html
DTEND:20131002T224500
DTSTART:20131002T221500
UID:/content/rbb/rbb/was/archiv/20131002_2215/oldtimer
DTSTAMP:20140406T211616
DESCRIPTION:Immer mehr Golden Oldies sind auf Deutschlands Straßen unterwegs: derzeit kurven rund 385.000 Fahrzeuge durch die Lande, die mindestens 30 Jahre alt sind. Fahrspaß, der oft auch ordentlich Rendite bringt: die Wertzuwächse bei Oldtimern sind enorm, zum Teil betragen sie weit über 100 Prozent. \n
SUMMARY:Auto als Geldanlage
END:VEVENT
END:VCALENDAR
