BEGIN:VCALENDAR
X-WR-TIMEZONE:Europe/Berlin
X-WR-CALNAME:rbb-Kalender
VERSION:2.0
METHOD:PUBLISH
CALSCALE:GREGORIAN
PRODID:rbb-CMS DAY
BEGIN:VEVENT
CLASS:PUBLIC
URL:http://www.rbb-online.de/content/rbb/rbb/was/archiv/20131002_2215/riesterwechsel.html
DTEND:20131002T224500
DTSTART:20131002T221500
UID:/content/rbb/rbb/was/archiv/20131002_2215/riesterwechsel
DTSTAMP:20140406T211523
DESCRIPTION:Seit 2002 wird in Deutschland die Riester Rente staatlich gefördert, inzwischen gibt es mehr als 15 Millionen Verträge. Diese Form der privaten Altersvorsorge soll die Rentenlücke schließen. Aber es profitieren vor allem die Versicherungen vom Riester-Boom.\n\n\n
SUMMARY:Vertragswechsel bei Riester-Rente
END:VEVENT
END:VCALENDAR
