BEGIN:VCALENDAR
X-WR-TIMEZONE:Europe/Berlin
X-WR-CALNAME:rbb-Kalender
VERSION:2.0
METHOD:PUBLISH
CALSCALE:GREGORIAN
PRODID:rbb-CMS DAY
BEGIN:VEVENT
LOCATION:wirtschaft arbeit sparen
CLASS:PUBLIC
URL:http://www.rbb-online.de/content/rbb/rbb/was/archiv/20131016_2215.html
DTEND:20131016T224500
DTSTART:20131016T221500
UID:/content/rbb/rbb/was/archiv/20131016_2215
DTSTAMP:20140405T223957
DESCRIPTION:- Digitales Erbe\n\n- Ausbau Stromnetz\n\n- Berlin-Brandenburgisches Wirtschaftsarchiv\n\n- Illegale Kopien\n\n\n
SUMMARY:was! 16.10.2013 22:15
END:VEVENT
END:VCALENDAR
