BEGIN:VCALENDAR
X-WR-TIMEZONE:Europe/Berlin
X-WR-CALNAME:rbb-Kalender
VERSION:2.0
METHOD:PUBLISH
CALSCALE:GREGORIAN
PRODID:rbb-CMS DAY
BEGIN:VEVENT
CLASS:PUBLIC
URL:http://www.rbb-online.de/content/rbb/rbb/was/archiv/20131016_2215/digitaleserbe.html
DTEND:20131016T224500
DTSTART:20131016T221500
UID:/content/rbb/rbb/was/archiv/20131016_2215/digitaleserbe
DTSTAMP:20140406T212122
DESCRIPTION:Wer vererbt schon sein Passwort für digitale Daten oder fixiert im Testament, was damit geschehen soll? Doch Bankgeschäfte oder online geschlossene Verträge müssen irgendwie vererbt oder abgewickelt werden. Die Hinterbliebenen bewegen sich dabei oft in einer juristischen Grauzone.\n\n\n
SUMMARY:Digitales Erbe 
END:VEVENT
END:VCALENDAR
