BEGIN:VCALENDAR
X-WR-TIMEZONE:Europe/Berlin
X-WR-CALNAME:rbb-Kalender
VERSION:2.0
METHOD:PUBLISH
CALSCALE:GREGORIAN
PRODID:rbb-CMS DAY
BEGIN:VEVENT
CLASS:PUBLIC
URL:http://www.rbb-online.de/content/rbb/rbb/was/archiv/20131016_2215/wirtschaftsarchiv.html
DTEND:20131016T224500
DTSTART:20131016T221500
UID:/content/rbb/rbb/was/archiv/20131016_2215/wirtschaftsarchiv
DTSTAMP:20140406T212104
DESCRIPTION:Bis 1945 war Berlin die wichtigste Wirtschaftsregion Deutschlands. Zwei Drittel aller Aktiengesellschaften hatten hier ihren Sitz. Das Berlin-Brandenburgische Wirtschaftsarchiv bewahrt diese regionale Wirtschaftsgeschichte, die sich oft auch in privaten Dokumenten widerspiegelt.\n\n\n
SUMMARY:Berlin-Brandenburgisches Wirtschaftsarchiv
END:VEVENT
END:VCALENDAR
