BEGIN:VCALENDAR
X-WR-TIMEZONE:Europe/Berlin
X-WR-CALNAME:rbb-Kalender
VERSION:2.0
METHOD:PUBLISH
CALSCALE:GREGORIAN
PRODID:rbb-CMS DAY
BEGIN:VEVENT
LOCATION:wirtschaft arbeit sparen
CLASS:PUBLIC
URL:http://www.rbb-online.de/content/rbb/rbb/was/archiv/20131030_2215.html
DTEND:20131030T224500
DTSTART:20131030T221500
UID:/content/rbb/rbb/was/archiv/20131030_2215
DTSTAMP:20140405T223838
DESCRIPTION:- Die Geschichte des Berliner Stromnetzes\n\n- Stadtwerke - ein Erfolgsmodell?\n\n- Rekommunalisierung - wie geht das?\n\n- Wohin mit Vattenfall?\n\n
SUMMARY:was! 30.10.2013 22:15
END:VEVENT
END:VCALENDAR
