BEGIN:VCALENDAR
X-WR-TIMEZONE:Europe/Berlin
X-WR-CALNAME:rbb-Kalender
VERSION:2.0
METHOD:PUBLISH
CALSCALE:GREGORIAN
PRODID:rbb-CMS DAY
BEGIN:VEVENT
CLASS:PUBLIC
URL:http://www.rbb-online.de/content/rbb/rbb/was/archiv/20131030_2215/geschichte-stromnetz.html
DTEND:20131030T224500
DTSTART:20131030T221500
UID:/content/rbb/rbb/was/archiv/20131030_2215/geschichte-stromnetz
DTSTAMP:20140406T211821
DESCRIPTION:Das Stromnetz der Hauptstadt hat eine bewegte und vor allem lange Geschichte: die schnell wachsende Metropole vor dem ersten Weltkrieg, die Industrialisierung, die Teilung der Stadt nach dem Zweiten Weltkrieg: doch Strom gab es immer.\n\n\n
SUMMARY:Die Geschichte des Berliner Stromnetzes
END:VEVENT
END:VCALENDAR
