BEGIN:VCALENDAR
X-WR-TIMEZONE:Europe/Berlin
X-WR-CALNAME:rbb-Kalender
VERSION:2.0
METHOD:PUBLISH
CALSCALE:GREGORIAN
PRODID:rbb-CMS DAY
BEGIN:VEVENT
CLASS:PUBLIC
URL:http://www.rbb-online.de/content/rbb/rbb/was/archiv/20131030_2215/rekommunalisierung.html
DTEND:20131030T224500
DTSTART:20131030T221500
UID:/content/rbb/rbb/was/archiv/20131030_2215/rekommunalisierung
DTSTAMP:20140406T211832
DESCRIPTION:So einfach ist es mit der Rückkehr der Stadtwerke nicht. Die Vergabe öffentlicher Aufträge ist an ein strenges Reglement gebunden, das so genannte Vergabeverfahren.\n\n\n
SUMMARY:Rekommunalisierung - wie geht das?
END:VEVENT
END:VCALENDAR
