BEGIN:VCALENDAR
X-WR-TIMEZONE:Europe/Berlin
X-WR-CALNAME:rbb-Kalender
VERSION:2.0
METHOD:PUBLISH
CALSCALE:GREGORIAN
PRODID:rbb-CMS DAY
BEGIN:VEVENT
CLASS:PUBLIC
URL:http://www.rbb-online.de/content/rbb/rbb/was/archiv/20131030_2215/vattenfall.html
DTEND:20131030T224500
DTSTART:20131030T221500
UID:/content/rbb/rbb/was/archiv/20131030_2215/vattenfall
DTSTAMP:20140406T211758
DESCRIPTION:Der Kampf ums Stromnetz, die Energiewende, das miese Braunkohleimage: Vattenfall hat mehrere Großbaustellen derzeit. Aber auch das Geschäftsmodell anderer großer Energiekonzerne steht durch die Energiepolitik auf dem Prüfstand. \n\n\n
SUMMARY:Wohin will Vattenfall?
END:VEVENT
END:VCALENDAR
