BEGIN:VCALENDAR
X-WR-TIMEZONE:Europe/Berlin
X-WR-CALNAME:rbb-Kalender
VERSION:2.0
METHOD:PUBLISH
CALSCALE:GREGORIAN
PRODID:rbb-CMS DAY
BEGIN:VEVENT
CLASS:PUBLIC
URL:http://www.rbb-online.de/content/rbb/rbb/was/archiv/20131113_2215/erben.html
DTEND:20131113T224500
DTSTART:20131113T221500
UID:/content/rbb/rbb/was/archiv/20131113_2215/erben
DTSTAMP:20140406T211500
DESCRIPTION:Meist bekommen die Hinterbliebenen die Erbstücke eines Verstorbenen. Wenn keine Erben zu finden sind, fallen diese Dinge an den Staat. Viel Gewinn kann der damit aber nicht machen, denn oft sind es baufällige, überschuldete Immobilien oder gar verseuchte Deponien, die an den Staat fallen.\n\n\n
SUMMARY:Wenn der Staat erbt
END:VEVENT
END:VCALENDAR
