BEGIN:VCALENDAR
X-WR-TIMEZONE:Europe/Berlin
X-WR-CALNAME:rbb-Kalender
VERSION:2.0
METHOD:PUBLISH
CALSCALE:GREGORIAN
PRODID:rbb-CMS DAY
BEGIN:VEVENT
CLASS:PUBLIC
URL:http://www.rbb-online.de/content/rbb/rbb/was/archiv/20131113_2215/lesen.html
DTEND:20131113T224500
DTSTART:20131113T221500
UID:/content/rbb/rbb/was/archiv/20131113_2215/lesen
DTSTAMP:20140405T225022
DESCRIPTION:Vegan Kochen, vegan Einkaufen, vegane Restaurants: Das Thema ist trendy und so bietet der Markt auch aktuell eine riesige Auswahl an Büchern. Was! lässt drei davon von einem Fachmann testen. was! liest …\n\n\n
SUMMARY:was! liest: vegane Kochbücher
END:VEVENT
END:VCALENDAR
