BEGIN:VCALENDAR
X-WR-TIMEZONE:Europe/Berlin
X-WR-CALNAME:rbb-Kalender
VERSION:2.0
METHOD:PUBLISH
CALSCALE:GREGORIAN
PRODID:rbb-CMS DAY
BEGIN:VEVENT
CLASS:PUBLIC
URL:http://www.rbb-online.de/content/rbb/rbb/was/archiv/20131113_2215/reifenlabel.html
DTEND:20131113T224500
DTSTART:20131113T221500
UID:/content/rbb/rbb/was/archiv/20131113_2215/reifenlabel
DTSTAMP:20140406T211512
DESCRIPTION:Seit knapp einem Jahr gibt es ein EU-weites, verbindliches Reifenlabel. Beim Kauf können sich Verbraucher daran orientieren. Doch auf Winterreifen sind die Kriterien des Labels nur bedingt anwendbar. Statt Klarheit zu finden, wird der Verbraucher verwirrt.\n\n\n
SUMMARY:EU-Label für Autoreifen
END:VEVENT
END:VCALENDAR
