BEGIN:VCALENDAR
X-WR-TIMEZONE:Europe/Berlin
X-WR-CALNAME:rbb-Kalender
VERSION:2.0
METHOD:PUBLISH
CALSCALE:GREGORIAN
PRODID:rbb-CMS DAY
BEGIN:VEVENT
CLASS:PUBLIC
URL:http://www.rbb-online.de/content/rbb/rbb/was/archiv/20131127_2215/iban.html
DTEND:20131127T224500
DTSTART:20131127T221500
UID:/content/rbb/rbb/was/archiv/20131127_2215/iban
DTSTAMP:20140405T011447
DESCRIPTION:Eine Gebührenrechnung von einem Registergericht? Mit allerlei Tricks versuchen Betrüger, kleinen Firmen und Unternehmen Geld aus der Tasche zu ziehen. Nur wer den IBAN-Code dechiffrieren kann, merkt schnell, dass die "Gebühr" nicht an ein Gericht geht, sondern nach Bulgarien.\n\n\n
SUMMARY:Überweisungs-Betrug
END:VEVENT
END:VCALENDAR
