BEGIN:VCALENDAR
X-WR-TIMEZONE:Europe/Berlin
X-WR-CALNAME:rbb-Kalender
VERSION:2.0
METHOD:PUBLISH
CALSCALE:GREGORIAN
PRODID:rbb-CMS DAY
BEGIN:VEVENT
CLASS:PUBLIC
URL:http://www.rbb-online.de/content/rbb/rbb/was/archiv/20131127_2215/online.html
DTEND:20131127T224500
DTSTART:20131127T221500
UID:/content/rbb/rbb/was/archiv/20131127_2215/online
DTSTAMP:20140405T011055
DESCRIPTION:Weihnachtsgeschenke bequem im Internet ordern, anstatt sich in den Geschäften vom alljährlichen Trubel anstecken zu lassen: Die Zahl der online bestellten Waren steigt stetig. Wie wirkt sich das auf die Innenstädte aus? Ein Problem nur für kleine und mittlere Städte oder auch für Berlins Shoppingzentren?\n\n\n
SUMMARY:Online contra Straße 
END:VEVENT
END:VCALENDAR
