BEGIN:VCALENDAR
X-WR-TIMEZONE:Europe/Berlin
X-WR-CALNAME:rbb-Kalender
VERSION:2.0
METHOD:PUBLISH
CALSCALE:GREGORIAN
PRODID:rbb-CMS DAY
BEGIN:VEVENT
CLASS:PUBLIC
URL:http://www.rbb-online.de/content/rbb/rbb/was/archiv/20131127_2215/spenden.html
DTEND:20131127T224500
DTSTART:20131127T221500
UID:/content/rbb/rbb/was/archiv/20131127_2215/spenden
DTSTAMP:20140405T010652
DESCRIPTION:Natur- und Tierschutz sind Themen, bei denen viele gern zu Spenden bereit sind. Entsprechend viele Verbände und Vereine sind aktiv auf Spendensuche. Doch lässt sich nachprüfen, wohin das Geld genau fließt? Die Stiftung Warentest hat das jetzt unter die Lupe genommen.\n\n\n
SUMMARY:Spenden-Test
END:VEVENT
END:VCALENDAR
