BEGIN:VCALENDAR
X-WR-TIMEZONE:Europe/Berlin
X-WR-CALNAME:rbb-Kalender
VERSION:2.0
METHOD:PUBLISH
CALSCALE:GREGORIAN
PRODID:rbb-CMS DAY
BEGIN:VEVENT
CLASS:PUBLIC
URL:http://www.rbb-online.de/content/rbb/rbb/was/archiv/20140122_2215/bio.html
DTEND:20140122T224500
DTSTART:20140122T221500
UID:/content/rbb/rbb/was/archiv/20140122_2215/bio
DTSTAMP:20140405T010447
DESCRIPTION:Die Nachfrage nach Bio-Lebensmitteln wächst stetig. Eigentlich eine gute Nachricht für brandenburgische Agrarbetriebe rund um Berlin. Doch ganz so einfach ist es leider nicht. Viele Betriebe müssen trotz eines stabilen Marktes das Handtuch werfen.\n\n\n
SUMMARY:Preisdruck in der Biobranche
END:VEVENT
END:VCALENDAR
