BEGIN:VCALENDAR
X-WR-TIMEZONE:Europe/Berlin
X-WR-CALNAME:rbb-Kalender
VERSION:2.0
METHOD:PUBLISH
CALSCALE:GREGORIAN
PRODID:rbb-CMS DAY
BEGIN:VEVENT
CLASS:PUBLIC
URL:http://www.rbb-online.de/content/rbb/rbb/was/archiv/20140122_2215/kompakt.html
DTEND:20140122T224500
DTSTART:20140122T221500
UID:/content/rbb/rbb/was/archiv/20140122_2215/kompakt
DTSTAMP:20140405T011423
DESCRIPTION:+++ Zuschüsse für professionelle Zahnreinigung +++ Einführung Sepa +++ stromfressende Staubsauger tabu +++ \n\n\n
SUMMARY:was! KOMPAKT
END:VEVENT
END:VCALENDAR
