BEGIN:VCALENDAR
X-WR-TIMEZONE:Europe/Berlin
X-WR-CALNAME:rbb-Kalender
VERSION:2.0
METHOD:PUBLISH
CALSCALE:GREGORIAN
PRODID:rbb-CMS DAY
BEGIN:VEVENT
LOCATION:wirtschaft arbeit sparen
CLASS:PUBLIC
URL:http://www.rbb-online.de/content/rbb/rbb/was/archiv/20140205_2215.html
DTEND:20140205T224500
DTSTART:20140205T221500
UID:/content/rbb/rbb/was/archiv/20140205_2215
DTSTAMP:20140405T010311
DESCRIPTION:+++ Grobe Fahrlässigkeit +++ Geheimnis: Aroma +++ was! KOMPAKT +++ Öko-Anlagen +++ 5 Jahre Mini-GmbH +++ was! liest: Ratgeber Stricken\n\n\n
SUMMARY:was! 05.02.2014 22:15
END:VEVENT
END:VCALENDAR
