BEGIN:VCALENDAR
X-WR-TIMEZONE:Europe/Berlin
X-WR-CALNAME:rbb-Kalender
VERSION:2.0
METHOD:PUBLISH
CALSCALE:GREGORIAN
PRODID:rbb-CMS DAY
BEGIN:VEVENT
CLASS:PUBLIC
URL:http://www.rbb-online.de/content/rbb/rbb/was/archiv/20140205_2215/kompakt.html
DTEND:20140205T224500
DTSTART:20140205T221500
UID:/content/rbb/rbb/was/archiv/20140205_2215/kompakt
DTSTAMP:20140405T010346
DESCRIPTION:+++ Schufa muss Berechnung des Score-Werts nicht offenlegen +++ Urteil zu Vertragsklauseln für Riester-Verträge +++ Keine City-Tax für Klassenfahrten +++ \n\n\n
SUMMARY:was! KOMPAKT
END:VEVENT
END:VCALENDAR
