BEGIN:VCALENDAR
X-WR-TIMEZONE:Europe/Berlin
X-WR-CALNAME:rbb-Kalender
VERSION:2.0
METHOD:PUBLISH
CALSCALE:GREGORIAN
PRODID:rbb-CMS DAY
BEGIN:VEVENT
LOCATION:wirtschaft arbeit sparen
CLASS:PUBLIC
URL:http://www.rbb-online.de/content/rbb/rbb/was/archiv/20140226_2215.html
DTEND:20140226T224500
DTSTART:20140226T221500
UID:/content/rbb/rbb/was/archiv/20140226_2215
DTSTAMP:20140405T224134
DESCRIPTION:+++ Multi-Jobber +++ Glascontainer +++ Billighotels +++ was! KOMPAKT +++ SEPA-Tour +++\n\n\n
SUMMARY:was! 26.02.2014 22:15
END:VEVENT
END:VCALENDAR
