BEGIN:VCALENDAR
X-WR-TIMEZONE:Europe/Berlin
X-WR-CALNAME:rbb-Kalender
VERSION:2.0
METHOD:PUBLISH
CALSCALE:GREGORIAN
PRODID:rbb-CMS DAY
BEGIN:VEVENT
CLASS:PUBLIC
URL:http://www.rbb-online.de/content/rbb/rbb/was/archiv/20140226_2215/glascontainer.html
DTEND:20140226T224500
DTSTART:20140226T221500
UID:/content/rbb/rbb/was/archiv/20140226_2215/glascontainer
DTSTAMP:20140405T010635
DESCRIPTION:In drei Stadtbezirken können die Berliner ihre Flaschen und Gläser nur noch in den großen Glasiglus an der Straße entsorgen. Der Grund sei die schlechte Qualität der Scherben. Doch einige vermuten: Der DSD will nur Geld sparen.\n\n\n
SUMMARY:Glascontainer
END:VEVENT
END:VCALENDAR
