BEGIN:VCALENDAR
X-WR-TIMEZONE:Europe/Berlin
X-WR-CALNAME:rbb-Kalender
VERSION:2.0
METHOD:PUBLISH
CALSCALE:GREGORIAN
PRODID:rbb-CMS DAY
BEGIN:VEVENT
CLASS:PUBLIC
URL:http://www.rbb-online.de/content/rbb/rbb/was/archiv/20140226_2215/hostel.html
DTEND:20140226T224500
DTSTART:20140226T221500
UID:/content/rbb/rbb/was/archiv/20140226_2215/hostel
DTSTAMP:20140405T010852
DESCRIPTION:Hostels sind eine preiswerte Alternative zu Hotels für Touristen mit wenig Geld. Doch ist der Übernachtungspreis von sieben Euro Grund genug die Bediensteten unter Tarif zu bezahlen und als Praktikum getarnte Arbeitsverträge zu vergeben?\n\n\n
SUMMARY:Billig Hostels
END:VEVENT
END:VCALENDAR
