BEGIN:VCALENDAR
X-WR-TIMEZONE:Europe/Berlin
X-WR-CALNAME:rbb-Kalender
VERSION:2.0
METHOD:PUBLISH
CALSCALE:GREGORIAN
PRODID:rbb-CMS DAY
BEGIN:VEVENT
CLASS:PUBLIC
URL:http://www.rbb-online.de/content/rbb/rbb/was/archiv/20140226_2215/job.html
DTEND:20140226T224500
DTSTART:20140226T221500
UID:/content/rbb/rbb/was/archiv/20140226_2215/job
DTSTAMP:20140405T010904
DESCRIPTION:Peter B. ist 57 Jahre und hat drei Jobs. Zeitungen austragen, Schulessen ausfahren und Medikamente für eine Apotheke ausliefern. Von einem Job alleine könnte er nicht leben. was! hat den Mann auf seinem 17 Stunden Arbeitstag begleitet.\n\n\n
SUMMARY:Multi-Jobber
END:VEVENT
END:VCALENDAR
