BEGIN:VCALENDAR
X-WR-TIMEZONE:Europe/Berlin
X-WR-CALNAME:rbb-Kalender
VERSION:2.0
METHOD:PUBLISH
CALSCALE:GREGORIAN
PRODID:rbb-CMS DAY
BEGIN:VEVENT
CLASS:PUBLIC
URL:http://www.rbb-online.de/content/rbb/rbb/was/archiv/20140312_2215/amtsgericht.html
DTEND:20140312T224500
DTSTART:20140312T221500
UID:/content/rbb/rbb/was/archiv/20140312_2215/amtsgericht
DTSTAMP:20140405T011140
DESCRIPTION:Vor dem Amtsrichter landen vor allem Alltagskonflikte. Im 15-Minuten-Takt werden Fälle wie schlechte Zahlungsmoral, Probleme mit der Versicherung und Mietkündigungen entschieden. Wir waren an einem Verhandlungstag dabei.\n\n\n
SUMMARY:Ein Tag im Amtsgericht
END:VEVENT
END:VCALENDAR
