BEGIN:VCALENDAR
X-WR-TIMEZONE:Europe/Berlin
X-WR-CALNAME:rbb-Kalender
VERSION:2.0
METHOD:PUBLISH
CALSCALE:GREGORIAN
PRODID:rbb-CMS DAY
BEGIN:VEVENT
CLASS:PUBLIC
URL:http://www.rbb-online.de/content/rbb/rbb/was/archiv/20140312_2215/lesen.html
DTEND:20140312T224500
DTSTART:20140312T221500
UID:/content/rbb/rbb/was/archiv/20140312_2215/lesen
DTSTAMP:20140405T010735
DESCRIPTION:Zum vorerst letzten Mal nimmt was! liest Sachbücher unter die Lupe – diesmal Ratgeber für den beruflichen Alltag - speziell für Angestellte: "Wie führe ich meinen Chef?" "Die Geheimnisse der Chefs", "Chefs – Aufzucht, Haltung und Pflege" - so die drei vielversprechenden Titel.\n\n\n
SUMMARY:was! liest: - Chef-Bücher
END:VEVENT
END:VCALENDAR
