BEGIN:VCALENDAR
X-WR-TIMEZONE:Europe/Berlin
X-WR-CALNAME:rbb-Kalender
VERSION:2.0
METHOD:PUBLISH
CALSCALE:GREGORIAN
PRODID:rbb-CMS DAY
BEGIN:VEVENT
CLASS:PUBLIC
URL:http://www.rbb-online.de/content/rbb/rbb/was/archiv/20140312_2215/meilensammeln.html
DTEND:20140312T224500
DTSTART:20140312T221500
UID:/content/rbb/rbb/was/archiv/20140312_2215/meilensammeln
DTSTAMP:20140405T011246
DESCRIPTION:Die Meilen- und Vielfliegerprogramme der Airlines sind eine Wissenschaft für sich und der Weg zum ersehnten Freiflug oft länger, als man glaubt. Wir vergleichen die Angebote von Lufthansa und Air Berlin. Für wen lohnt sich Meilensammeln überhaupt?\n\n\n
SUMMARY:Meilen-Sammlen – lohnt sich das?
END:VEVENT
END:VCALENDAR
