BEGIN:VCALENDAR
X-WR-TIMEZONE:Europe/Berlin
X-WR-CALNAME:rbb-Kalender
VERSION:2.0
METHOD:PUBLISH
CALSCALE:GREGORIAN
PRODID:rbb-CMS DAY
BEGIN:VEVENT
CLASS:PUBLIC
URL:http://www.rbb-online.de/content/rbb/rbb/was/archiv/20140326_2215/berlinergeld.html
DTEND:20140326T230000
DTSTART:20140326T221500
UID:/content/rbb/rbb/was/archiv/20140326_2215/berlinergeld
DTSTAMP:20140405T011239
DESCRIPTION:Die Berliner sehen ihr Geld vor allem als Mittel zum Zweck. Sie kümmern sich wenig um Anlagestrategien oder finanzielle Feinheiten. Leider schlägt sich das auch in der Privatschuldenbilanz nieder.\n\n\n
SUMMARY:Die Berliner und das Geld
END:VEVENT
END:VCALENDAR
