BEGIN:VCALENDAR
X-WR-TIMEZONE:Europe/Berlin
X-WR-CALNAME:rbb-Kalender
VERSION:2.0
METHOD:PUBLISH
CALSCALE:GREGORIAN
PRODID:rbb-CMS DAY
BEGIN:VEVENT
CLASS:PUBLIC
URL:http://www.rbb-online.de/content/rbb/rbb/was/archiv/20140409_2215/3d-drucker.html
DTEND:20140409T224500
DTSTART:20140409T221500
UID:/content/rbb/rbb/was/archiv/20140409_2215/3d-drucker
DTSTAMP:20140409T234148
DESCRIPTION:Schon die Erfindung an sich setzt bei Laien, aber auch bei Profis viele Fantasien frei: alles ist auch druckbar! 3-D-Drucker - als Ersatz für Maschinen und Universalgerät? \n\n\n
SUMMARY:Drucken in 3D
END:VEVENT
END:VCALENDAR
