BEGIN:VCALENDAR
X-WR-TIMEZONE:Europe/Berlin
X-WR-CALNAME:rbb-Kalender
VERSION:2.0
METHOD:PUBLISH
CALSCALE:GREGORIAN
PRODID:rbb-CMS DAY
BEGIN:VEVENT
CLASS:PUBLIC
URL:http://www.rbb-online.de/content/rbb/rbb/was/archiv/20140409_2215/premium-taxi.html
DTEND:20140409T224500
DTSTART:20140409T221500
UID:/content/rbb/rbb/was/archiv/20140409_2215/premium-taxi
DTSTAMP:20140409T234120
DESCRIPTION:Berliner Taxifahrer sind nicht unbedingt für ihre Freundlichkeit bekannt - um ihr Image zu verbessern, wird ihnen vom Berliner Taxiverband eine Schulung angeboten. In zweimal vier Stunden lernen sie alles zum Thema Kundennähe, Zuverlässigkeit, Taxirecht. Am Ende gibt es eine Prüfung und ein Zertifikat für ein so genanntes Premium -Taxi.\n
SUMMARY:Premium-Schulung für Taxifahrer
END:VEVENT
END:VCALENDAR
