BEGIN:VCALENDAR
X-WR-TIMEZONE:Europe/Berlin
X-WR-CALNAME:rbb-Kalender
VERSION:2.0
METHOD:PUBLISH
CALSCALE:GREGORIAN
PRODID:rbb-CMS DAY
BEGIN:VEVENT
CLASS:PUBLIC
URL:http://www.rbb-online.de/content/rbb/rbb/was/archiv/was__vom_12_06_2013/schlichtungsstellen.html
DTEND:20130612T221500
DTSTART:20130612T221500
UID:/content/rbb/rbb/was/archiv/was__vom_12_06_2013/schlichtungsstellen
DTSTAMP:20140406T212003
DESCRIPTION:Seit 2009 gibt es Schlichtungsstellen, die sich bei Verspätungen um Entschädigungen für Bahn- und Bus-Reisende kümmern. Die Airlines jedoch weigern sich bisher, daran teilzunehmen. So haben es Fluggäste oft schwer, ihre Ansprüche durchzusetzen. Doch sind Schlichtungsstellen nicht der einzige Weg zu seinem Recht zu kommen.
SUMMARY:Schlichtungsstellen für Bahn und Flugzeug
END:VEVENT
END:VCALENDAR
