BEGIN:VCALENDAR
X-WR-TIMEZONE:Europe/Berlin
X-WR-CALNAME:rbb-Kalender
VERSION:2.0
METHOD:PUBLISH
CALSCALE:GREGORIAN
PRODID:rbb-CMS DAY
BEGIN:VEVENT
CLASS:PUBLIC
URL:http://www.rbb-online.de/content/rbb/rbb/was/archiv/was__vom_17_04_2013/solarpleite___ein.html
DTEND:20130417T221500
DTSTART:20130417T221500
UID:/content/rbb/rbb/was/archiv/was__vom_17_04_2013/solarpleite___ein
DTSTAMP:20140406T212216
DESCRIPTION:Vor genau einem Jahr hat die amerikanische Firma First Solar in Frankfurt (Oder) angekündigt, die Produktion einzustellen. Für die 900 Beschäftigten wurde eine Auffanggesellschaft gegründet. Ist das gut angelegtes Geld? Schließlich ist das nicht das erste Großprojekt in der Region, das in den Sand gesetzt wurde.
SUMMARY:Solarpleite - ein Jahr danach
END:VEVENT
END:VCALENDAR
