BEGIN:VCALENDAR
X-WR-TIMEZONE:Europe/Berlin
X-WR-CALNAME:rbb-Kalender
VERSION:2.0
METHOD:PUBLISH
CALSCALE:GREGORIAN
PRODID:rbb-CMS DAY
BEGIN:VEVENT
CLASS:PUBLIC
URL:http://www.rbb-online.de/content/rbb/rbb/was/archiv/was__vom_17_04_2013/wohnungs_mieten_in.html
DTEND:20130417T221500
DTSTART:20130417T221500
UID:/content/rbb/rbb/was/archiv/was__vom_17_04_2013/wohnungs_mieten_in
DTSTAMP:20140406T212138
DESCRIPTION:Die Mieten in Berlin sind in den letzten Jahren überdurchschnittlich gestiegen. Neuvermietungen sind längst nicht mehr bezahlbarer Wohnraum für jedermann Doch was heißt bezahlbar und wer legt das fest? Wie realistisch sind die Vorstellungen der Politik?
SUMMARY:Wohnungs-Mieten in Berlin
END:VEVENT
END:VCALENDAR
