BEGIN:VCALENDAR
X-WR-TIMEZONE:Europe/Berlin
X-WR-CALNAME:rbb-Kalender
VERSION:2.0
METHOD:PUBLISH
CALSCALE:GREGORIAN
PRODID:rbb-CMS DAY
BEGIN:VEVENT
CLASS:PUBLIC
URL:http://www.rbb-online.de/content/rbb/rbb/was/archiv/was__vom_29_05_2013/panometer_unternehmer.html
DTEND:20130529T221500
DTSTART:20130529T221500
UID:/content/rbb/rbb/was/archiv/was__vom_29_05_2013/panometer_unternehmer
DTSTAMP:20140406T212726
DESCRIPTION:Der Berliner Yadegar Asisi hat Häuser gebaut, Ausstellungen gestaltet und Bühnenbilder gemalt. Mittlerweile stellt er Panoramen her, die er in ehemaligen Gasometern oder großen Stahlrotunden aufbaut.
SUMMARY:Panometer-Unternehmer
END:VEVENT
END:VCALENDAR
