BEGIN:VCALENDAR
X-WR-TIMEZONE:Europe/Berlin
X-WR-CALNAME:rbb-Kalender
VERSION:2.0
METHOD:PUBLISH
CALSCALE:GREGORIAN
PRODID:rbb-CMS DAY
BEGIN:VEVENT
CLASS:PUBLIC
URL:http://www.rbb-online.de/content/rbb/rbb/was/archiv/was__vom_29_05_2013/umstrittene_ticket.html
DTEND:20130529T221500
DTSTART:20130529T221500
UID:/content/rbb/rbb/was/archiv/was__vom_29_05_2013/umstrittene_ticket
DTSTAMP:20140406T212655
DESCRIPTION:Sind die Karten für begehrte Konzerte oder Fußballspiele beim Veranstalter schon weg, kann man über Viagogo oft noch Tickets bekommen. Denn der Anbieter handelt mit zurückgegebenen Karten. Doch dafür erhebt er 25 Prozent Gebühren.
SUMMARY:Umstrittene Ticket-Börse
END:VEVENT
END:VCALENDAR
