BEGIN:VCALENDAR
X-WR-TIMEZONE:Europe/Berlin
X-WR-CALNAME:rbb-Kalender
VERSION:2.0
METHOD:PUBLISH
CALSCALE:GREGORIAN
PRODID:rbb-CMS DAY
BEGIN:VEVENT
LOCATION:wirtschaft arbeit sparen
CLASS:PUBLIC
URL:http://www.rbb-online.de/content/rbb/rbb/was/archiv/was_vom_11_12_2013.html
DTEND:20131211T224500
DTSTART:20131211T221500
UID:/content/rbb/rbb/was/archiv/was_vom_11_12_2013
DTSTAMP:20140405T010547
DESCRIPTION:+++ HD Fernsehen - was wird anders? +++ Produktregistrierung +++ Kapitalhilfe für Start Ups +++ was! KOMPAKT +++ Geschäft des Jahres +++ was! liest: Ratgeber Geldanlage +++\n\n\n
SUMMARY:was! vom 11.12.2013
END:VEVENT
END:VCALENDAR
