BEGIN:VCALENDAR
X-WR-TIMEZONE:Europe/Berlin
X-WR-CALNAME:rbb-Kalender
VERSION:2.0
METHOD:PUBLISH
CALSCALE:GREGORIAN
PRODID:rbb-CMS DAY
BEGIN:VEVENT
CLASS:PUBLIC
URL:http://www.rbb-online.de/content/rbb/rbb/was/archiv/was_vom_11_12_2013/hd.html
DTEND:20131211T224500
DTSTART:20131211T221500
UID:/content/rbb/rbb/was/archiv/was_vom_11_12_2013/hd
DTSTAMP:20140405T010557
DESCRIPTION:Seit dem 5. Dezember sendet auch der rbb in HD Qualität. Für die Verbraucher gibt es allerdings noch eine Menge praktischer Fragen, die was! hilft zu klären. Denn das hoch auflösende Bild kommt leider nicht automatisch per Knopfdruck ins Haus.\n\n\n
SUMMARY:HD Fernsehen - was wird anders?
END:VEVENT
END:VCALENDAR
