BEGIN:VCALENDAR
X-WR-TIMEZONE:Europe/Berlin
X-WR-CALNAME:rbb-Kalender
VERSION:2.0
METHOD:PUBLISH
CALSCALE:GREGORIAN
PRODID:rbb-CMS DAY
BEGIN:VEVENT
CLASS:PUBLIC
URL:http://www.rbb-online.de/content/rbb/rbb/was/archiv/was_vom_11_12_2013/produktregistrierung.html
DTEND:20131211T224500
DTSTART:20131211T221500
UID:/content/rbb/rbb/was/archiv/was_vom_11_12_2013/produktregistrierung
DTSTAMP:20140405T011345
DESCRIPTION:Wenn Firmen die Käufer bitten, erworbene Produkte online registrieren zu lassen, wollen sie die Markenbindung der Käufer festigen und persönliche Daten der Kunden speichern. Doch die Gegenleistungen, die von den Firmen dafür geboten werden, sind oft mehr als fraglich.\n\n\n
SUMMARY:Produktregistrierung
END:VEVENT
END:VCALENDAR
