BEGIN:VCALENDAR
X-WR-TIMEZONE:Europe/Berlin
X-WR-CALNAME:rbb-Kalender
VERSION:2.0
METHOD:PUBLISH
CALSCALE:GREGORIAN
PRODID:rbb-CMS DAY
BEGIN:VEVENT
CLASS:PUBLIC
URL:http://www.rbb-online.de/content/rbb/rbb/was/archiv/was_vom_11_12_2013/startup.html
DTEND:20131211T224500
DTSTART:20131211T221500
UID:/content/rbb/rbb/was/archiv/was_vom_11_12_2013/startup
DTSTAMP:20140405T010506
DESCRIPTION:Frisches Kapital aufzutreiben, ist in Startup-Unternehmen oft ein Problem, da die zwar einerseits viele Kosten haben, die Gewinne aber auf sich warten lassen. Oft wollen potentielle Investoren für ihr Geld Stimmrechte in den Firmen, oder diese sogar übernehmen.\n\n\n
SUMMARY:Kapitalhilfe für Startups
END:VEVENT
END:VCALENDAR
