BEGIN:VCALENDAR
X-WR-TIMEZONE:Europe/Berlin
X-WR-CALNAME:rbb-Kalender
VERSION:2.0
METHOD:PUBLISH
CALSCALE:GREGORIAN
PRODID:rbb-CMS DAY
BEGIN:VEVENT
CLASS:PUBLIC
URL:http://www.rbb-online.de/content/rbb/rbb/wissenszeit/faecher/biologie/sendungen/leben-mit-dem-hochwasser.html
DTEND:20140218T074500
DTSTART:20140218T074500
UID:/content/rbb/rbb/wissenszeit/faecher/biologie/sendungen/leben-mit-dem-hochwasser
DTSTAMP:20140405T030036
DESCRIPTION:Natürliche Auwälder sind rar geworden. Um den Rhein zu einer der größten Wasserstraßen Europas zu machen, wurde er begradigt, vertieft und eingedeicht. So haben nicht nur viele Pflanzen und Tiere ihren Lebensraum verloren, auch die Hochwassergefahr für die Anwohner ist gestiegen.\n
SUMMARY:Leben mit dem Hochwasser
END:VEVENT
END:VCALENDAR
