BEGIN:VCALENDAR
X-WR-TIMEZONE:Europe/Berlin
X-WR-CALNAME:rbb-Kalender
VERSION:2.0
METHOD:PUBLISH
CALSCALE:GREGORIAN
PRODID:rbb-CMS DAY
BEGIN:VEVENT
CLASS:PUBLIC
URL:http://www.rbb-online.de/content/rbb/rbb/wissenszeit/faecher/biologie/sendungen/tschernobyl___strahlende.html
DTEND:20140314T073000
DTSTART:20140314T073000
UID:/content/rbb/rbb/wissenszeit/faecher/biologie/sendungen/tschernobyl___strahlende
DTSTAMP:20140405T031202
DESCRIPTION:Die Gegend um den Reaktor in Tschernobyl ist heute erstaunlich grün. Wo man eine leblose, radioaktiv verseuchte Wüste erwartet, zwitschern die Vögel. Vor mehr als 25 Jahren mussten die Menschen das Gebiet verlassen. Seitdem erobert die Natur die Stadt zurück. \n
SUMMARY:Tschernobyl - strahlende Natur
END:VEVENT
END:VCALENDAR
