BEGIN:VCALENDAR
X-WR-TIMEZONE:Europe/Berlin
X-WR-CALNAME:rbb-Kalender
VERSION:2.0
METHOD:PUBLISH
CALSCALE:GREGORIAN
PRODID:rbb-CMS DAY
BEGIN:VEVENT
CLASS:PUBLIC
URL:http://www.rbb-online.de/content/rbb/rbb/wissenszeit/faecher/erdkunde/sendungen/japan__achtung_erdbeben.html
DTEND:20140311T073000
DTSTART:20140311T073000
UID:/content/rbb/rbb/wissenszeit/faecher/erdkunde/sendungen/japan__achtung_erdbeben
DTSTAMP:20140405T025849
DESCRIPTION:In keinem anderen Land bebt die Erde so oft wie in Japan. Hundertausende Menschen kamen in den vergangenen hundert Jahren bei Erdbeben ums Leben oder wurden obdachlos. Warum bebt die Erde in Japan? \n
SUMMARY:Japan. Achtung Erdbeben!
END:VEVENT
END:VCALENDAR
