BEGIN:VCALENDAR
X-WR-TIMEZONE:Europe/Berlin
X-WR-CALNAME:rbb-Kalender
VERSION:2.0
METHOD:PUBLISH
CALSCALE:GREGORIAN
PRODID:rbb-CMS DAY
BEGIN:VEVENT
CLASS:PUBLIC
URL:http://www.rbb-online.de/content/rbb/rbb/wissenszeit/faecher/erdkunde/sendungen/japan__die_kinder0.html
DTEND:20140310T074500
DTSTART:20140310T074500
UID:/content/rbb/rbb/wissenszeit/faecher/erdkunde/sendungen/japan__die_kinder0
DTSTAMP:20140405T025529
DESCRIPTION:In den Schulen von Minamisoma, 30 km vom havarierten Atomkraftwerk entfernt, wurden Kinder aufgenommen, die aus der strengen 20-km-Sperrzone evakuiert worden waren. Auch hier sind sie noch einer gefährlichen Strahlenbelastung ausgesetzt. \n
SUMMARY:Japan. Die Kinder von Fukushima
END:VEVENT
END:VCALENDAR
