BEGIN:VCALENDAR
X-WR-TIMEZONE:Europe/Berlin
X-WR-CALNAME:rbb-Kalender
VERSION:2.0
METHOD:PUBLISH
CALSCALE:GREGORIAN
PRODID:rbb-CMS DAY
BEGIN:VEVENT
CLASS:PUBLIC
URL:http://www.rbb-online.de/content/rbb/rbb/wissenszeit/faecher/erdkunde/sendungen/japan__ein_jahr_nach.html
DTEND:20140311T074500
DTSTART:20140311T074500
UID:/content/rbb/rbb/wissenszeit/faecher/erdkunde/sendungen/japan__ein_jahr_nach
DTSTAMP:20140405T025338
DESCRIPTION:Was hat sich in Japan ein Jahr nach der Atomkatastrophe verändert? In Koriyama, 40 km vom havarierten Atomkraftwerk entfernt, ist das Thema Radioaktivität jetzt Teil des Physikunterrichts, denn die Schüler und ihre Familien sind auch im täglichen Leben ständig mit der erhöhten Strahlung konfrontiert.  \n\n\n
SUMMARY:Japan. Ein Jahr nach Fuskushima
END:VEVENT
END:VCALENDAR
