BEGIN:VCALENDAR
X-WR-TIMEZONE:Europe/Berlin
X-WR-CALNAME:rbb-Kalender
VERSION:2.0
METHOD:PUBLISH
CALSCALE:GREGORIAN
PRODID:rbb-CMS DAY
BEGIN:VEVENT
CLASS:PUBLIC
URL:http://www.rbb-online.de/content/rbb/rbb/wissenszeit/faecher/ethik/sendungen/brundibar---eine-kinderoper-aus-dem-kz-theresienstadt.html
DTEND:20140127T074500
DTSTART:20140127T074500
UID:/content/rbb/rbb/wissenszeit/faecher/ethik/sendungen/brundibar---eine-kinderoper-aus-dem-kz-theresienstadt
DTSTAMP:20140405T031309
DESCRIPTION:\nEva Hermanova sang als 14-Jährige bei den Aufführungen von "Brundibár" in Theresienstadt im Kinderchor mit. Die Oper wurde dort offiziell und unzählige Male inoffiziell gespielt - auf den Gängen der Wohnbaracken und in Hofecken. Das Lagerkommando wollte damit den Inspektoren des Internationalen Roten Kreuzes im Juni 1944 beweisen, wie "schön" das Leben  im "Kurort Theresienstadt" war.\n
SUMMARY:Brundibár - Eine Kinderoper aus dem KZ Theresienstadt
END:VEVENT
END:VCALENDAR
