BEGIN:VCALENDAR
X-WR-TIMEZONE:Europe/Berlin
X-WR-CALNAME:rbb-Kalender
VERSION:2.0
METHOD:PUBLISH
CALSCALE:GREGORIAN
PRODID:rbb-CMS DAY
BEGIN:VEVENT
CLASS:PUBLIC
URL:http://www.rbb-online.de/content/rbb/rbb/wissenszeit/faecher/ethik/sendungen/die-kathedrale-der-kaiser--der-speyerer-dom.html
DTEND:20140415T073000
DTSTART:20140415T073000
UID:/content/rbb/rbb/wissenszeit/faecher/ethik/sendungen/die-kathedrale-der-kaiser--der-speyerer-dom
DTSTAMP:20140405T025513
DESCRIPTION:134 Meter lang, 99 Meter breit, 70 Meter hoch – ein monumentales Bauwerk! Im Speyerer Dom wurde künstlerisch, religiös und politisch Geschichte geschrieben.\n
SUMMARY:Die Kathedrale der Kaiser: Der Speyerer Dom
END:VEVENT
END:VCALENDAR
