BEGIN:VCALENDAR
X-WR-TIMEZONE:Europe/Berlin
X-WR-CALNAME:rbb-Kalender
VERSION:2.0
METHOD:PUBLISH
CALSCALE:GREGORIAN
PRODID:rbb-CMS DAY
BEGIN:VEVENT
CLASS:PUBLIC
URL:http://www.rbb-online.de/content/rbb/rbb/wissenszeit/faecher/ethik/sendungen/kirchenfenster_erzaehlen.html
DTEND:20140417T073000
DTSTART:20140417T073000
UID:/content/rbb/rbb/wissenszeit/faecher/ethik/sendungen/kirchenfenster_erzaehlen
DTSTAMP:20140405T030851
DESCRIPTION:Die Karwoche ist die Woche unmittelbar vor Ostern und für Christen die wichtigste Woche im Kirchenjahr. "Kara" bedeutet Trauer, Wehklage.\n
SUMMARY:Kirchenfenster erzählen Geschichten. Ostern (1)
END:VEVENT
END:VCALENDAR
