BEGIN:VCALENDAR
X-WR-TIMEZONE:Europe/Berlin
X-WR-CALNAME:rbb-Kalender
VERSION:2.0
METHOD:PUBLISH
CALSCALE:GREGORIAN
PRODID:rbb-CMS DAY
BEGIN:VEVENT
CLASS:PUBLIC
URL:http://www.rbb-online.de/content/rbb/rbb/wissenszeit/faecher/geschichte/sendungen/60-x-deutschland.html
DTEND:20140106T071500
DTSTART:20140106T071500
UID:/content/rbb/rbb/wissenszeit/faecher/geschichte/sendungen/60-x-deutschland
DTSTAMP:20140405T031248
DESCRIPTION:Deutschland ist 1949 immer noch ein besetztes Land. Der Kalte Krieg ist harte Realität. Noch wird die Versorgung West-Berlins durch die Sowjetunion blockiert. Mit einer gigantischen Luftbrücke erhalten die Westalliierten die Stadt bis zur Aufhebung der Blockade im Mai am Leben. Im Westen wie im Osten laufen dabei die Vorbereitungen für die Gründung der beiden deutschen Teil-Staaten. Im Mai ist es in Bonn soweit, im Oktober in Ost-Berlin.\n
SUMMARY:Die Jahre 1949 - 1952
END:VEVENT
END:VCALENDAR
