BEGIN:VCALENDAR
X-WR-TIMEZONE:Europe/Berlin
X-WR-CALNAME:rbb-Kalender
VERSION:2.0
METHOD:PUBLISH
CALSCALE:GREGORIAN
PRODID:rbb-CMS DAY
BEGIN:VEVENT
CLASS:PUBLIC
URL:http://www.rbb-online.de/content/rbb/rbb/wissenszeit/faecher/geschichte/sendungen/die-jahre-.html
DTEND:20140123T071500
DTSTART:20140123T071500
UID:/content/rbb/rbb/wissenszeit/faecher/geschichte/sendungen/die-jahre-
DTSTAMP:20140405T030028
DESCRIPTION:Drei Reformprojekte der rot-grünen Koalition nehmen 2001 Gestalt an: Es gibt neue Standards für die Massentierhaltung, der langfristige Atomausstieg wird besiegelt und Homosexuelle können ihre Lebenspartnerschaft erstmals gesetzlich eintragen lassen. Staatlich ist Homosexualität damit weitestgehend akzeptiert – gesellschaftlich noch nicht. Es gibt Andeutungen über den SPD-Spitzenkandidaten zur Berliner Bürgermeisterwahl. Der geht in die Offensive und spricht den Satz des Jahres. “Ich bin schwul und das ist auch gut so!” Das Bekenntnis schadet nicht: Klaus Wowereit wird in Berlin zum Regierenden Bürgermeister gewählt. Ein Datum lässt dann aber alles in den Hintergrund treten: der 11. September. Auf das New Yorker World Trade Center und das Pentagon in Washington werden verheerende Anschläge verübt. Fast 3000 Menschen kommen ums Leben. Die westliche Welt ist geschockt. Und schon unmittelbar nach den Anschlägen ist klar: Eine Spur führt nach Deutschland.\n
SUMMARY:Die Jahre 2001 - 2004 
END:VEVENT
END:VCALENDAR
