BEGIN:VCALENDAR
X-WR-TIMEZONE:Europe/Berlin
X-WR-CALNAME:rbb-Kalender
VERSION:2.0
METHOD:PUBLISH
CALSCALE:GREGORIAN
PRODID:rbb-CMS DAY
BEGIN:VEVENT
CLASS:PUBLIC
URL:http://www.rbb-online.de/content/rbb/rbb/wissenszeit/faecher/geschichte/sendungen/die-jahre-1965---1968-.html
DTEND:20140110T071500
DTSTART:20140110T071500
UID:/content/rbb/rbb/wissenszeit/faecher/geschichte/sendungen/die-jahre-1965---1968-
DTSTAMP:20140405T025728
DESCRIPTION:\n20 Jahre nach Ende des Zweiten Weltkrieges ist eine neue Generation herangewachsen. Nicht nur durch ihren Musikgeschmack distanzieren sich die Fans der Rolling Stones oder Beatles im Westen von der Kriegsgeneration. Sie stellen Fragen, protestieren gegen Bundeswehrsoldaten und fordern Aufarbeitung. In Israel wird der Amtsantritt des ersten deutschen Botschafters von Protesten begleitet. Waffenlieferungen der Bundesrepublik an Israel sorgen indes dafür, dass die DDR von Ägypten anerkannt wird. Ein Triumph für Ulbricht.\n\n
SUMMARY:Die Jahre 1965 - 1968 
END:VEVENT
END:VCALENDAR
