BEGIN:VCALENDAR
X-WR-TIMEZONE:Europe/Berlin
X-WR-CALNAME:rbb-Kalender
VERSION:2.0
METHOD:PUBLISH
CALSCALE:GREGORIAN
PRODID:rbb-CMS DAY
BEGIN:VEVENT
CLASS:PUBLIC
URL:http://www.rbb-online.de/content/rbb/rbb/wissenszeit/faecher/geschichte/sendungen/die-jahre-2005---2008.html
DTEND:20140124T071500
DTSTART:20140124T071500
UID:/content/rbb/rbb/wissenszeit/faecher/geschichte/sendungen/die-jahre-2005---2008
DTSTAMP:20140405T025629
DESCRIPTION:Die junge Türkin Hatun Sürücü wird in Berlin von ihrem eigenen Bruder getötet. Sein Motiv: die Familienehre. Er missbilligt den Lebensstil der jungen Frau, die das Kopftuch abgelegt und wie eine Deutsche gelebt hatte. Der Begriff “Ehrenmord” wird zum Diskussionsthema in Politik und Gesellschaft. Der wichtigste und umstrittenste Teil der Sozialreform tritt in Kraft: Die Änderungen beim Arbeitslosengeld und der Sozialhilfe, die unter dem Namen Hartz IV bekannt werden. „Fördern und Fordern“ heißt das Prinzip. Die Reform ist hastig und mangelhaft vorbereitet, der Start verläuft miserabel. Bundeskanzler Schröder riskiert nach dem andauernden Richtungsstreit in der SPD und im rot-grünen Bündnis vorgezogene Bundestagswahlen – und scheitert. Angela Merkel wird die Kanzlerin einer Koalition aus Union und SPD.\n
SUMMARY:Die Jahre 2005 - 2008
END:VEVENT
END:VCALENDAR
